BEGIN:VCALENDAR
PRODID:-//github.com/ical-org/ical.net//NONSGML ical.net 5.2.1//EN
VERSION:2.0
BEGIN:VTIMEZONE
TZID:Europe/Amsterdam
X-LIC-LOCATION:Europe/Amsterdam
END:VTIMEZONE
BEGIN:VEVENT
DESCRIPTION:Rohan loves colleague Meera but can't confess his feelings.
DTEND;TZID=Local:20260503T210000
DTSTAMP:20260425T184754Z
DTSTART;TZID=Local:20260503T184000
LOCATION:Path? De Kuip
SEQUENCE:0
SUMMARY:Ek Din
UID:2f78fed2-adfc-41fa-89b6-9729cc342f03
URL:https://www.uitagendarotterdam.nl/agenda/ek-din/
END:VEVENT
END:VCALENDAR
