BEGIN:VCALENDAR
PRODID:-//github.com/ical-org/ical.net//NONSGML ical.net 5.2.1//EN
VERSION:2.0
BEGIN:VTIMEZONE
TZID:Europe/Amsterdam
X-LIC-LOCATION:Europe/Amsterdam
END:VTIMEZONE
BEGIN:VEVENT
DESCRIPTION:Rohan loves colleague Meera but can't confess his feelings.
DTEND;TZID=Local:20260502T221000
DTSTAMP:20260425T184714Z
DTSTART;TZID=Local:20260502T195000
LOCATION:Path? De Kuip
SEQUENCE:0
SUMMARY:Ek Din
UID:0f1df66c-fbc2-4935-bacd-38a0369bcb4c
URL:https://www.uitagendarotterdam.nl/agenda/ek-din/
END:VEVENT
END:VCALENDAR
