BEGIN:VCALENDAR
PRODID:-//github.com/ical-org/ical.net//NONSGML ical.net 5.2.1//EN
VERSION:2.0
BEGIN:VTIMEZONE
TZID:Europe/Amsterdam
X-LIC-LOCATION:Europe/Amsterdam
END:VTIMEZONE
BEGIN:VEVENT
DESCRIPTION:Het langverwachte finale hoofdstuk in de trilogie gebaseerd op 
 de iconische The Strangers reeks waarin een jonge vrouw wordt geconfrontee
 rd met een groep angstaanjagende\, bijna emotieloze gemaskerde moordenaars
 .
DTEND;TZID=Local:20260504T172200
DTSTAMP:20260425T184805Z
DTSTART;TZID=Local:20260504T153000
LOCATION:Path? De Kuip
SEQUENCE:0
SUMMARY:The Strangers: Chapter 3
UID:bc9d5c8f-900d-463d-a561-c645885a9067
URL:https://www.uitagendarotterdam.nl/agenda/the-strangers-chapter-3/
END:VEVENT
END:VCALENDAR
