BEGIN:VCALENDAR
PRODID:-//github.com/ical-org/ical.net//NONSGML ical.net 5.2.1//EN
VERSION:2.0
BEGIN:VTIMEZONE
TZID:Europe/Amsterdam
X-LIC-LOCATION:Europe/Amsterdam
END:VTIMEZONE
BEGIN:VEVENT
DESCRIPTION:Het langverwachte finale hoofdstuk in de trilogie gebaseerd op 
 de iconische The Strangers reeks waarin een jonge vrouw wordt geconfrontee
 rd met een groep angstaanjagende\, bijna emotieloze gemaskerde moordenaars
 .
DTEND;TZID=Local:20260502T100200
DTSTAMP:20260425T184755Z
DTSTART;TZID=Local:20260502T081000
LOCATION:Path? De Kuip
SEQUENCE:0
SUMMARY:The Strangers: Chapter 3
UID:b9193ad5-c5d9-4c40-941f-c98c99628c7f
URL:https://www.uitagendarotterdam.nl/agenda/the-strangers-chapter-3/
END:VEVENT
END:VCALENDAR
