BEGIN:VCALENDAR
PRODID:-//github.com/ical-org/ical.net//NONSGML ical.net 5.2.1//EN
VERSION:2.0
BEGIN:VTIMEZONE
TZID:Europe/Amsterdam
X-LIC-LOCATION:Europe/Amsterdam
END:VTIMEZONE
BEGIN:VEVENT
DESCRIPTION:Inna kondigt de "Echoes Tour" aan in december 2026\, met optred
 ens in Nederland en omliggende landen. Verwacht nieuwe muziek en grote hit
 s tijdens deze energieke live-shows.
DTEND;TZID=Local:20261206T220000
DTSTAMP:20260425T184713Z
DTSTART;TZID=Local:20261206T190000
LOCATION:Maassilo
SEQUENCE:0
SUMMARY:Inna ? Echoes Tour 2026 | Maassilo
UID:45635b89-cddd-473c-b3f2-6450957e7c49
URL:https://www.uitagendarotterdam.nl/agenda/inna-echoes-tour-2026-maassilo
 /
END:VEVENT
END:VCALENDAR
