BEGIN:VCALENDAR
PRODID:-//github.com/ical-org/ical.net//NONSGML ical.net 5.2.1//EN
VERSION:2.0
BEGIN:VTIMEZONE
TZID:Europe/Amsterdam
X-LIC-LOCATION:Europe/Amsterdam
END:VTIMEZONE
BEGIN:VEVENT
DESCRIPTION:Ervaar Ruth Jacott live in het theater met haar jubileumshow 
 ?De tijd van mijn leven?. Een avond vol muziek\, energie en pakkende v
 erhalen. Beleef een muzikale reis.
DTEND;TZID=Local:20270212T235900
DTSTAMP:20260425T184933Z
DTSTART;TZID=Local:20270212T200000
LOCATION:nieuwe Luxor Theater
SEQUENCE:0
SUMMARY:Ruth Jacott
UID:16435296-b75d-4bc4-9050-dd30440ccf69
URL:https://www.uitagendarotterdam.nl/agenda/ruth-jacott/
END:VEVENT
END:VCALENDAR
