BEGIN:VCALENDAR
PRODID:-//github.com/ical-org/ical.net//NONSGML ical.net 5.2.1//EN
VERSION:2.0
BEGIN:VTIMEZONE
TZID:Europe/Amsterdam
X-LIC-LOCATION:Europe/Amsterdam
END:VTIMEZONE
BEGIN:VEVENT
DESCRIPTION:Moedig de TeamNL Handbalheren live aan in Rotterdam tijdens hun
  spannende strijd voor een ticket voor het WK 2027!
DTEND;TZID=Local:20260517T163000
DTSTAMP:20260425T184713Z
DTSTART;TZID=Local:20260517T150000
LOCATION:Topsportcentrum Rotterdam
SEQUENCE:0
SUMMARY:WK-kwalificatiewedstrijd TeamNL Handbalheren
UID:06d71805-cd70-40ab-a06a-1e78da1ed0ba
URL:https://www.uitagendarotterdam.nl/agenda/wk-kwalificatiewedstrijd-teamn
 l-handbalheren/
END:VEVENT
END:VCALENDAR
