BEGIN:VCALENDAR
PRODID:-//github.com/ical-org/ical.net//NONSGML ical.net 5.2.1//EN
VERSION:2.0
BEGIN:VTIMEZONE
TZID:Europe/Amsterdam
X-LIC-LOCATION:Europe/Amsterdam
END:VTIMEZONE
BEGIN:VEVENT
DESCRIPTION:Zaterdag 6 juni verandert de rooftop van het monumentale Statio
 n Bergweg in een open-air dansvloer voor Zomerfest pt.1: Ontspoord.
DTEND;TZID=Local:20260606T230000
DTSTAMP:20260425T185808Z
DTSTART;TZID=Local:20260606T180000
LOCATION:
SEQUENCE:0
SUMMARY:Zomerfest p.1: ONTSPOORD
UID:3e322c2c-d074-47a5-834c-d0f0adae31cb
URL:https://www.uitagendarotterdam.nl/agenda/zomerfest-p1-ontspoord/
END:VEVENT
END:VCALENDAR
