BEGIN:VCALENDAR
PRODID:-//github.com/ical-org/ical.net//NONSGML ical.net 5.2.1//EN
VERSION:2.0
BEGIN:VTIMEZONE
TZID:Europe/Amsterdam
X-LIC-LOCATION:Europe/Amsterdam
END:VTIMEZONE
BEGIN:VEVENT
DESCRIPTION:De gebroeders Roel en Jos Maalderink\, bekend van VPRO's Plaksh
 ot\, presenteren hun cabaretvoorstelling 'Verbroedering'. Een actuele show
  vol humor en scherpe observaties over maatschappelijke thema's. Ervaar ee
 n avond vol verschillen en overeenkomsten tussen de broers.
DTEND;TZID=Local:20270204T235900
DTSTAMP:20260425T185729Z
DTSTART;TZID=Local:20270204T200000
LOCATION:oude Luxor Theater
SEQUENCE:0
SUMMARY:Roel en Jos Maalderink
UID:98c29e61-ee2b-431d-84b1-5018fc847787
URL:https://www.uitagendarotterdam.nl/agenda/roel-en-jos-maalderink/
END:VEVENT
END:VCALENDAR
