BEGIN:VCALENDAR
PRODID:-//github.com/ical-org/ical.net//NONSGML ical.net 5.2.1//EN
VERSION:2.0
BEGIN:VTIMEZONE
TZID:Europe/Amsterdam
X-LIC-LOCATION:Europe/Amsterdam
END:VTIMEZONE
BEGIN:VEVENT
DESCRIPTION:Mei 10\, 2026 in Rotterdam. FFO: Hatebreed\, Breakdown\, Negati
 ve Approach. 
DTSTAMP:20260424T174201Z
DTSTART;TZID=Local:20260510T150000
LOCATION:Baroeg
SEQUENCE:0
SUMMARY:Live Hard Or Die fest: Sheer Terror
UID:ea7f129d-f78f-462a-ab35-c327d7689b6e
URL:https://www.uitagendarotterdam.nl/agenda/live-hard-or-die-fest-sheer-te
 rror-plus-skroetbalg-plus-lies-plus-megalomaniacs-plus-angles-morts/
END:VEVENT
END:VCALENDAR
