BEGIN:VCALENDAR
PRODID:-//github.com/ical-org/ical.net//NONSGML ical.net 5.2.1//EN
VERSION:2.0
BEGIN:VTIMEZONE
TZID:Europe/Amsterdam
X-LIC-LOCATION:Europe/Amsterdam
END:VTIMEZONE
BEGIN:VEVENT
DESCRIPTION:Juni 16\, 2026 in Rotterdam. FFO: Death\, Exodus\, Venom.
DTSTAMP:20260424T173914Z
DTSTART;TZID=Local:20260616T190000
LOCATION:Baroeg
SEQUENCE:0
SUMMARY:Possessed
UID:9daf4deb-ca57-4bc9-a95e-37b35ec9887e
URL:https://www.uitagendarotterdam.nl/agenda/possessed-plus-sinsaenum/
END:VEVENT
END:VCALENDAR
