BEGIN:VCALENDAR
PRODID:-//github.com/ical-org/ical.net//NONSGML ical.net 5.2.1//EN
VERSION:2.0
BEGIN:VTIMEZONE
TZID:Europe/Amsterdam
X-LIC-LOCATION:Europe/Amsterdam
END:VTIMEZONE
BEGIN:VEVENT
DESCRIPTION:Kom Koningsdag vieren in Baroeg.
DTSTAMP:20260424T174049Z
DTSTART;TZID=Local:20260427T140000
LOCATION:Baroeg
SEQUENCE:0
SUMMARY:Koningsdag festival: Lord Sabbath
UID:dcfc6ca3-80e6-4aa1-aade-578082ff8229
URL:https://www.uitagendarotterdam.nl/agenda/koningsdag-festival-lord-sabba
 th-plus-inherited-plus-the-prince-albert-plus-steal-thy-roots-plus-between
 -the-rats-038-snakes-plus-doom-fever-plus-smudged/
END:VEVENT
END:VCALENDAR
