BEGIN:VCALENDAR
PRODID:-//github.com/ical-org/ical.net//NONSGML ical.net 5.2.1//EN
VERSION:2.0
BEGIN:VTIMEZONE
TZID:Europe/Amsterdam
X-LIC-LOCATION:Europe/Amsterdam
END:VTIMEZONE
BEGIN:VEVENT
DESCRIPTION:Funeral doomformatie keer terug naar Baroeg.
DTSTAMP:20260424T173936Z
DTSTART;TZID=Local:20260802T150000
LOCATION:Baroeg
SEQUENCE:0
SUMMARY:Dutch Doom Days presents: Evoken
UID:8170c023-25d5-4837-a373-c5ab3f716737
URL:https://www.uitagendarotterdam.nl/agenda/dutch-doom-days-presents-evoke
 n-plus-todomal-plus-phlebotomized/
END:VEVENT
END:VCALENDAR
