BEGIN:VCALENDAR
PRODID:-//github.com/ical-org/ical.net//NONSGML ical.net 5.2.1//EN
VERSION:2.0
BEGIN:VTIMEZONE
TZID:Europe/Amsterdam
X-LIC-LOCATION:Europe/Amsterdam
END:VTIMEZONE
BEGIN:VEVENT
DESCRIPTION:FFO: Kickback\, Bulldoze\, Blood For Blood.
DTSTAMP:20260424T174108Z
DTSTART;TZID=Local:20260814T183000
LOCATION:Baroeg
SEQUENCE:0
SUMMARY:Live Hard Bookings presents: Hoods
UID:fd9392b9-9f31-4b31-ae56-d3c88310dcad
URL:https://www.uitagendarotterdam.nl/agenda/live-hard-bookings-presents-ho
 ods-plus-brick-by-brick-plus-give-em-blood-plus-provisional/
END:VEVENT
END:VCALENDAR
