BEGIN:VCALENDAR
PRODID:-//github.com/ical-org/ical.net//NONSGML ical.net 5.2.1//EN
VERSION:2.0
BEGIN:VTIMEZONE
TZID:Europe/Amsterdam
X-LIC-LOCATION:Europe/Amsterdam
END:VTIMEZONE
BEGIN:VEVENT
DESCRIPTION:FFO: Hank III\, Scott H. Biram\, The Grave Brothers.
DTSTAMP:20260424T173920Z
DTSTART;TZID=Local:20260531T150000
LOCATION:Baroeg
SEQUENCE:0
SUMMARY:Bob Wayne
UID:70a514d9-4e35-42a5-866d-bc2d0a3c1b74
URL:https://www.uitagendarotterdam.nl/agenda/bob-wayne-plus-tio-gringo-plus
 -renegade-bandits/
END:VEVENT
END:VCALENDAR
