BEGIN:VCALENDAR
PRODID:-//github.com/ical-org/ical.net//NONSGML ical.net 5.2.1//EN
VERSION:2.0
BEGIN:VTIMEZONE
TZID:Europe/Amsterdam
X-LIC-LOCATION:Europe/Amsterdam
END:VTIMEZONE
BEGIN:VEVENT
DESCRIPTION:FFO: Rattus\, Disturbance\, Home Front.
DTSTAMP:20260424T173914Z
DTSTART;TZID=Local:20260606T150000
LOCATION:Baroeg
SEQUENCE:0
SUMMARY:Tales From The Punx: The Varukers
UID:8611b6b8-2e03-4b3f-ba4d-4a2dd44098c1
URL:https://www.uitagendarotterdam.nl/agenda/tales-from-the-punx-the-varuke
 rs-plus-maid-of-ace-plus-belgian-asociality-plus-the-mau-maus-plus-die-nak
 se-bananen-plus-krime-plus-alpha-rats/
END:VEVENT
END:VCALENDAR
