BEGIN:VCALENDAR
PRODID:-//github.com/ical-org/ical.net//NONSGML ical.net 5.2.1//EN
VERSION:2.0
BEGIN:VTIMEZONE
TZID:Europe/Amsterdam
X-LIC-LOCATION:Europe/Amsterdam
END:VTIMEZONE
BEGIN:VEVENT
DESCRIPTION:Muziekbeleving die beperkingen overwint.
DTSTAMP:20260424T174043Z
DTSTART;TZID=Local:20261003T140000
LOCATION:Baroeg
SEQUENCE:0
SUMMARY:Everyone Rocks
UID:c14d1640-b960-4f10-a168-3e3beb321d35
URL:https://www.uitagendarotterdam.nl/agenda/everyone-rocks/
END:VEVENT
END:VCALENDAR
