BEGIN:VCALENDAR
PRODID:-//github.com/ical-org/ical.net//NONSGML ical.net 5.2.1//EN
VERSION:2.0
BEGIN:VTIMEZONE
TZID:Europe/Amsterdam
X-LIC-LOCATION:Europe/Amsterdam
END:VTIMEZONE
BEGIN:VEVENT
DESCRIPTION:Augustus 11\, 2026 in Rotterdam. Onuitspreekbare naam en onlees
 baar logo\, maar op muziek gebied flink ontwikkeld. 
DTSTAMP:20260424T173920Z
DTSTART;TZID=Local:20260811T190000
LOCATION:Baroeg
SEQUENCE:0
SUMMARY:Rotterdam Deathfest presents: Sanguisugabogg
UID:45216b15-618b-4105-aed1-2f572f997693
URL:https://www.uitagendarotterdam.nl/agenda/rotterdam-deathfest-presents-s
 anguisugabogg-plus-revocation-plus-internal-bleeding/
END:VEVENT
END:VCALENDAR
