BEGIN:VCALENDAR
PRODID:-//github.com/ical-org/ical.net//NONSGML ical.net 5.2.1//EN
VERSION:2.0
BEGIN:VTIMEZONE
TZID:Europe/Amsterdam
X-LIC-LOCATION:Europe/Amsterdam
END:VTIMEZONE
BEGIN:VEVENT
DESCRIPTION:Een fleurig voorjaarsconcert door de KRPH op zaterdag 2 mei
DTEND;TZID=Local:20260502T220000
DTSTAMP:20260422T172351Z
DTSTART;TZID=Local:20260502T200000
LOCATION:Grote Kerk Overschie
SEQUENCE:0
SUMMARY:Concert voor Mei
UID:9b68d336-08ee-42af-a202-3edb33c7f237
URL:https://www.uitagendarotterdam.nl/agenda/concert-voor-mei/
END:VEVENT
END:VCALENDAR
