BEGIN:VCALENDAR
PRODID:-//github.com/ical-org/ical.net//NONSGML ical.net 5.2.1//EN
VERSION:2.0
BEGIN:VTIMEZONE
TZID:Europe/Amsterdam
X-LIC-LOCATION:Europe/Amsterdam
END:VTIMEZONE
BEGIN:VEVENT
DESCRIPTION:Ontdek de opkomende artiesten van morgen\, vandaag op ons podiu
 m!
DTEND;TZID=Local:20260802T234500
DTSTAMP:20260422T172356Z
DTSTART;TZID=Local:20260802T200000
LOCATION:Mamarazzi
SEQUENCE:0
SUMMARY:MAMARAZZI LIVE 23 april 2026
UID:813424da-4415-4cab-b8c8-08c341a92bda
URL:https://www.uitagendarotterdam.nl/agenda/mamarazzi-live-23-april-2026/
END:VEVENT
END:VCALENDAR
