BEGIN:VCALENDAR
PRODID:-//github.com/ical-org/ical.net//NONSGML ical.net 5.2.1//EN
VERSION:2.0
BEGIN:VTIMEZONE
TZID:Europe/Amsterdam
X-LIC-LOCATION:Europe/Amsterdam
END:VTIMEZONE
BEGIN:VEVENT
DESCRIPTION:Beleef een unieke muzikale ontmoeting tussen orgel en saxofoon.
DTEND;TZID=Local:20260511T180000
DTSTAMP:20260422T172535Z
DTSTART;TZID=Local:20260511T160000
LOCATION:Prinsekerk
SEQUENCE:0
SUMMARY:Organic Sax
UID:737f79f0-db66-4ee0-9de5-548c94ff9400
URL:https://www.uitagendarotterdam.nl/agenda/organic-sax/
END:VEVENT
END:VCALENDAR
