BEGIN:VCALENDAR
PRODID:-//github.com/ical-org/ical.net//NONSGML ical.net 5.2.1//EN
VERSION:2.0
BEGIN:VTIMEZONE
TZID:Europe/Amsterdam
X-LIC-LOCATION:Europe/Amsterdam
END:VTIMEZONE
BEGIN:VEVENT
DESCRIPTION:Celebrate Kingsnight at Stalles with free entry\, special bar p
 rices\, and dance till 03:00 at night!!
DTEND;TZID=Local:20260426T030000
DTSTAMP:20260422T172537Z
DTSTART;TZID=Local:20260426T213000
LOCATION:Caf? Stalles
SEQUENCE:0
SUMMARY:Free Kingsnight @ Stalles!!!
UID:cbebea64-c3c0-4a6e-9c60-9e2bf39ff1e5
URL:https://www.uitagendarotterdam.nl/agenda/free-kingsnight-stalles/
END:VEVENT
END:VCALENDAR
