BEGIN:VCALENDAR
PRODID:-//github.com/ical-org/ical.net//NONSGML ical.net 5.2.1//EN
VERSION:2.0
BEGIN:VTIMEZONE
TZID:Europe/Amsterdam
X-LIC-LOCATION:Europe/Amsterdam
END:VTIMEZONE
BEGIN:VEVENT
DESCRIPTION:Kom luisteren naar Vivaldi's Gloria en liederen van P?rt\, Lau
 ridsen\, Jenkins en Gjello\, met medewerking van leerlingen van het Rudolf
  Steiner College.
DTEND;TZID=Local:20260530T173000
DTSTAMP:20260422T172442Z
DTSTART;TZID=Local:20260530T160000
LOCATION:Hillegondakerk
SEQUENCE:0
SUMMARY:jubileumconcert 40 jaar koor & zuri  in de hillegondakerk
UID:a663d963-7dfc-44ea-9667-a918512ef0f4
URL:https://www.uitagendarotterdam.nl/agenda/jubileumconcert-40-jaar-koor-z
 uri-in-de-hillegondakerk/
END:VEVENT
END:VCALENDAR
