BEGIN:VCALENDAR
PRODID:-//github.com/ical-org/ical.net//NONSGML ical.net 5.2.1//EN
VERSION:2.0
BEGIN:VTIMEZONE
TZID:Europe/Amsterdam
X-LIC-LOCATION:Europe/Amsterdam
END:VTIMEZONE
BEGIN:VEVENT
DESCRIPTION:Een dancefeest in de stad waar verbinding centraal staat - NO P
 HONES POLICY - Disconnect to reconnect
DTEND;TZID=Local:20260528T010000
DTSTAMP:20260422T172220Z
DTSTART;TZID=Local:20260528T210000
LOCATION:Mamarazzi
SEQUENCE:0
SUMMARY:Summerwave
UID:7e882b27-3f71-4948-94b3-2928e891d155
URL:https://www.uitagendarotterdam.nl/agenda/summerwave/
END:VEVENT
END:VCALENDAR
