BEGIN:VCALENDAR
PRODID:-//github.com/ical-org/ical.net//NONSGML ical.net 5.2.1//EN
VERSION:2.0
BEGIN:VTIMEZONE
TZID:Europe/Amsterdam
X-LIC-LOCATION:Europe/Amsterdam
END:VTIMEZONE
BEGIN:VEVENT
DESCRIPTION:Elke laatste zondagmiddag van de maand Jazzsessies in De Buurvr
 ouw.
DTEND;TZID=Local:20260531T170000
DTSTAMP:20260422T172442Z
DTSTART;TZID=Local:20260531T150000
LOCATION:De Buurvrouw
SEQUENCE:0
SUMMARY:Jamsessies
UID:15fdefe5-829a-4f44-befe-0220a7cb7961
URL:https://www.uitagendarotterdam.nl/agenda/jamsessies-2/
END:VEVENT
END:VCALENDAR
