BEGIN:VCALENDAR
PRODID:-//github.com/ical-org/ical.net//NONSGML ical.net 5.2.1//EN
VERSION:2.0
BEGIN:VTIMEZONE
TZID:Europe/Amsterdam
X-LIC-LOCATION:Europe/Amsterdam
END:VTIMEZONE
BEGIN:VEVENT
DESCRIPTION:Samen aan tafel om persoonlijke verhalen over oorlog & vrijheid
  te delen tijdens gevarieerd programma inclusief   Syrische maaltijd 
DTEND;TZID=Local:20260505T220000
DTSTAMP:20260422T172604Z
DTSTART;TZID=Local:20260505T180000
LOCATION:Verhalenhuis Belv?d?re
SEQUENCE:0
SUMMARY:Vrijheidsvolkskeuken 'Wederopbouw van het Leven'
UID:ea39b33b-c871-42c7-9f4c-1ce3a3de8b53
URL:https://www.uitagendarotterdam.nl/agenda/vrijheidsvolkskeuken-wederopbo
 uw-van-het-leven/
END:VEVENT
END:VCALENDAR
