BEGIN:VCALENDAR
PRODID:-//github.com/ical-org/ical.net//NONSGML ical.net 5.2.1//EN
VERSION:2.0
BEGIN:VTIMEZONE
TZID:Europe/Amsterdam
X-LIC-LOCATION:Europe/Amsterdam
END:VTIMEZONE
BEGIN:VEVENT
DESCRIPTION:Zaterdag 6 juni presenteert Guiding Voices in samenwerking met 
 Poetry International een programma met de Amerikaanse dichter Aracelis Gir
 may.
DTEND;TZID=Local:20260606T180000
DTSTAMP:20260422T184953Z
DTSTART;TZID=Local:20260606T160000
LOCATION:
SEQUENCE:0
SUMMARY:Guiding Voices: Aracelis Girmay
UID:07415897-e9c6-4dd3-bb18-5793c5b7650e
URL:https://www.uitagendarotterdam.nl/agenda/guiding-voices-aracelis-girmay
 /
END:VEVENT
END:VCALENDAR
