BEGIN:VCALENDAR
PRODID:-//github.com/ical-org/ical.net//NONSGML ical.net 5.2.1//EN
VERSION:2.0
BEGIN:VTIMEZONE
TZID:Europe/Amsterdam
X-LIC-LOCATION:Europe/Amsterdam
END:VTIMEZONE
BEGIN:VEVENT
DESCRIPTION:De Koning zijn verjaardag vieren op zondagnacht de Zondebok & Z
 warte Schaap 
DTEND;TZID=Local:20260426T040000
DTSTAMP:20260422T172137Z
DTSTART;TZID=Local:20260426T000000
LOCATION:
SEQUENCE:0
SUMMARY:Kingsnight bij de Zondebok & Zwarte Schaap
UID:eeabcf9c-39ad-42f2-bfce-cd549da0459f
URL:https://www.uitagendarotterdam.nl/agenda/kingsnight-bij-de-zondebok-zwa
 rte-schaap/
END:VEVENT
END:VCALENDAR
