BEGIN:VCALENDAR
PRODID:-//github.com/ical-org/ical.net//NONSGML ical.net 5.2.1//EN
VERSION:2.0
BEGIN:VTIMEZONE
TZID:Europe/Amsterdam
X-LIC-LOCATION:Europe/Amsterdam
END:VTIMEZONE
BEGIN:VEVENT
DESCRIPTION:ALEF Jazz Festival 2026 is an intimate\, interdisciplinary outd
 oor festival in Rotterdam where jazz improvisation\, visual art\, and comm
 unity converge to explore heritage\, identity\, and contemporary creativit
 y through a day of performances\, soul food and collective artistic exchan
 ge.
DTEND;TZID=Local:20260516T230000
DTSTAMP:20260422T172617Z
DTSTART;TZID=Local:20260516T150000
LOCATION:Groot Handelsgebouw
SEQUENCE:0
SUMMARY:ALEF Jazz Festival 2026
UID:09ab3517-b0f8-4cdf-baef-11f4457d4bbb
URL:https://www.uitagendarotterdam.nl/agenda/alef-jazz-festival-2026/
END:VEVENT
END:VCALENDAR
