BEGIN:VCALENDAR
PRODID:-//github.com/ical-org/ical.net//NONSGML ical.net 5.2.1//EN
VERSION:2.0
BEGIN:VTIMEZONE
TZID:Europe/Amsterdam
X-LIC-LOCATION:Europe/Amsterdam
END:VTIMEZONE
BEGIN:VEVENT
DESCRIPTION:In deze tweede sessie van ?1 S?ances: Desire&Technology\, de
  zesdelige lees- en discussieserie van ?1 Digital Lab\, ga je dieper in 
 op het thema?Techno-logics of Desire.
DTEND;TZID=Local:20260430T193000
DTSTAMP:20260422T172219Z
DTSTART;TZID=Local:20260430T183000
LOCATION:Nieuwe Instituut
SEQUENCE:0
SUMMARY:-1 S?ances #2: Desire&Technology Reading Group
UID:5c0c6902-3818-421b-8039-bd2a05aacb77
URL:https://www.uitagendarotterdam.nl/agenda/1-seances-2-desiretechnology-r
 eading-group/
END:VEVENT
END:VCALENDAR
