BEGIN:VCALENDAR
PRODID:-//github.com/ical-org/ical.net//NONSGML ical.net 5.2.1//EN
VERSION:2.0
BEGIN:VTIMEZONE
TZID:Europe/Amsterdam
X-LIC-LOCATION:Europe/Amsterdam
END:VTIMEZONE
BEGIN:VEVENT
DESCRIPTION:Het schaken als opening.\, het gesprek als resultaat. Met mense
 n zoals jij\, die dat ook begrijpen.
DTEND;TZID=Local:20260509T120000
DTSTAMP:20260422T172349Z
DTSTART;TZID=Local:20260509T100000
LOCATION:
SEQUENCE:0
SUMMARY:Check Mates - Maandelijkse schaak hangout in Restaurant Rotonde\,  
 Rotterdam
UID:1e32d105-bc95-491e-aa2a-422763e3f194
URL:https://www.uitagendarotterdam.nl/agenda/check-mates-maandelijkse-schaa
 k-hangout-in-restaurant-rotonde-rotterdam/
END:VEVENT
END:VCALENDAR
