BEGIN:VCALENDAR
PRODID:-//github.com/ical-org/ical.net//NONSGML ical.net 5.2.1//EN
VERSION:2.0
BEGIN:VTIMEZONE
TZID:Europe/Amsterdam
X-LIC-LOCATION:Europe/Amsterdam
END:VTIMEZONE
BEGIN:VEVENT
DESCRIPTION:Museum Rotterdam werkt hard aan een nieuw stadsmuseum. Maar daa
 rvoor hebben we jouw hulp nodig! Tijdens de Verhalenwerkplaats laten we jo
 u en je ouders kennismaken met Rotterdamse (collectie)verhalen. En jij mag
  ook meedenken! Wat wil jij straks in het nieuwe museum zien? Misschien zi
 en we jouw idee wel terug!
DTEND;TZID=Local:20260513T163000
DTSTAMP:20260422T172536Z
DTSTART;TZID=Local:20260513T133000
LOCATION:de Doelen Studio's
SEQUENCE:0
SUMMARY:Verhalenwerkplaats Museum Rotterdam met Joris Lutz: 14 mei 1940
UID:5e2cc3e0-8c34-4c25-91b4-fb126ed32ac2
URL:https://www.uitagendarotterdam.nl/agenda/verhalenwerkplaats-museum-rott
 erdam-met-joris-lutz-14-mei-1940/
END:VEVENT
END:VCALENDAR
