BEGIN:VCALENDAR
PRODID:-//github.com/ical-org/ical.net//NONSGML ical.net 5.2.1//EN
VERSION:2.0
BEGIN:VTIMEZONE
TZID:Europe/Amsterdam
X-LIC-LOCATION:Europe/Amsterdam
END:VTIMEZONE
BEGIN:VEVENT
DESCRIPTION:Step out of the noise en laat kleinkunst je raken door de krach
 t van ?cht luisteren.
DTEND;TZID=Local:20260529T223000
DTSTAMP:20260422T172419Z
DTSTART;TZID=Local:20260529T190000
LOCATION:Hostel ROOM
SEQUENCE:0
SUMMARY:beyond the record
UID:27cace06-151f-4f02-9b9d-8fa3144fa03d
URL:https://www.uitagendarotterdam.nl/agenda/beyond-the-record/
END:VEVENT
END:VCALENDAR
