BEGIN:VCALENDAR
PRODID:-//github.com/ical-org/ical.net//NONSGML ical.net 5.2.1//EN
VERSION:2.0
BEGIN:VTIMEZONE
TZID:Europe/Amsterdam
X-LIC-LOCATION:Europe/Amsterdam
END:VTIMEZONE
BEGIN:VEVENT
DESCRIPTION:Meer dan 80 jonge makers. ??n explosie van creativiteit en ve
 rbinding. Ontdek het festival dat de volgende generatie evenementmakers aa
 n Rotterdam presenteert.
DTEND;TZID=Local:20260604T000000
DTSTAMP:20260422T172443Z
DTSTART;TZID=Local:20260528T000000
LOCATION:Diverse locaties Rotterdam
SEQUENCE:0
SUMMARY:Rotterdam Takeover Festival 2026
UID:f3c764cf-f5e2-456d-8cec-866ebf23e6ce
URL:https://www.uitagendarotterdam.nl/agenda/rotterdam-takeover-festival-20
 26/
END:VEVENT
END:VCALENDAR
