BEGIN:VCALENDAR
PRODID:-//github.com/ical-org/ical.net//NONSGML ical.net 5.2.1//EN
VERSION:2.0
BEGIN:VTIMEZONE
TZID:Europe/Amsterdam
X-LIC-LOCATION:Europe/Amsterdam
END:VTIMEZONE
BEGIN:VEVENT
DESCRIPTION:An underground disco club night from Rotterdam
DTEND;TZID=Local:20260515T040000
DTSTAMP:20260422T172219Z
DTSTART;TZID=Local:20260515T230000
LOCATION:Cult=us
SEQUENCE:0
SUMMARY:Love Transmission w/ Rob Manga
UID:eb4f7a21-60df-4fa9-83a7-9d04c43e8143
URL:https://www.uitagendarotterdam.nl/agenda/love-transmission-w-rob-manga/
END:VEVENT
END:VCALENDAR
