BEGIN:VCALENDAR
PRODID:-//github.com/ical-org/ical.net//NONSGML ical.net 5.2.1//EN
VERSION:2.0
BEGIN:VTIMEZONE
TZID:Europe/Amsterdam
X-LIC-LOCATION:Europe/Amsterdam
END:VTIMEZONE
BEGIN:VEVENT
DESCRIPTION:Het gebouw als inspiratie voor exposanten
DTEND;TZID=Local:20260517T000000
DTSTAMP:20260422T164407Z
DTSTART;TZID=Local:20260430T000000
LOCATION:
SEQUENCE:0
SUMMARY:Under Construction
UID:3cb8c8dd-c815-47f5-b520-03d56746c06b
URL:https://www.uitagendarotterdam.nl/agenda/under-construction/
END:VEVENT
END:VCALENDAR
