BEGIN:VCALENDAR
PRODID:-//github.com/ical-org/ical.net//NONSGML ical.net 5.2.1//EN
VERSION:2.0
BEGIN:VTIMEZONE
TZID:Europe/Amsterdam
X-LIC-LOCATION:Europe/Amsterdam
END:VTIMEZONE
BEGIN:VEVENT
DESCRIPTION:Wanneer Musa\, een Palestijn in Nederland\, de camera van zijn 
 overleden broer ontvangt\, een fotojournalist in Gaza\, laat hij de laatst
 e filmrol ontwikkelen. Dit dwingt hem oog in oog te staan met rouw\, censu
 ur en de last van een nalatenschap.
DTEND;TZID=Local:20260424T223000
DTSTAMP:20260422T172420Z
DTSTART;TZID=Local:20260424T190000
LOCATION:TR25 Schouwburg
SEQUENCE:0
SUMMARY:Last Shot Parham Rahimzadeh
UID:ba147a46-8083-44cf-bb19-62dd2ab51011
URL:https://www.uitagendarotterdam.nl/agenda/last-shot-parham-rahimzadeh/
END:VEVENT
END:VCALENDAR
