BEGIN:VCALENDAR
PRODID:-//github.com/ical-org/ical.net//NONSGML ical.net 5.2.1//EN
VERSION:2.0
BEGIN:VTIMEZONE
TZID:Europe/Amsterdam
X-LIC-LOCATION:Europe/Amsterdam
END:VTIMEZONE
BEGIN:VEVENT
DESCRIPTION:In SAFE van Roshanak Morrowatian probeert het lichaam zich te a
 arden in scherven van?herinneringen.
DTEND;TZID=Local:20260612T201500
DTSTAMP:20260422T172603Z
DTSTART;TZID=Local:20260612T200000
LOCATION:TR25 Schouwburg
SEQUENCE:0
SUMMARY:SAFE Roshanak Morrowatian
UID:9e00abcf-fe51-49ab-a559-c92ecc3fa3af
URL:https://www.uitagendarotterdam.nl/agenda/safe-roshanak-morrowatian/
END:VEVENT
END:VCALENDAR
