BEGIN:VCALENDAR
PRODID:-//github.com/ical-org/ical.net//NONSGML ical.net 5.2.1//EN
VERSION:2.0
BEGIN:VTIMEZONE
TZID:Europe/Amsterdam
X-LIC-LOCATION:Europe/Amsterdam
END:VTIMEZONE
BEGIN:VEVENT
DESCRIPTION:Gevoelige Snaar is een avondvullend programma waarin muziek\, k
 unst en dialoog samenkomen rondom gevoelige en maatschappelijke thema?s.
  In een intieme huiskamersetting delen artiesten publiek persoonlijke verh
 alen via live optredens\, voordrachten en gesprekken.
DTSTAMP:20260422T172219Z
DTSTART;TZID=Local:20260630T190000
LOCATION:Theater Zuidplein
SEQUENCE:0
SUMMARY:Gevoelige Snaar: Keti Koti House Of Carrot
UID:4fcee8c6-4091-4dd6-b5f1-69bcd01018a9
URL:https://www.uitagendarotterdam.nl/agenda/gevoelige-snaar-keti-koti-hous
 e-of-carrot/
END:VEVENT
END:VCALENDAR
