BEGIN:VCALENDAR
PRODID:-//github.com/ical-org/ical.net//NONSGML ical.net 5.2.1//EN
VERSION:2.0
BEGIN:VTIMEZONE
TZID:Europe/Amsterdam
X-LIC-LOCATION:Europe/Amsterdam
END:VTIMEZONE
BEGIN:VEVENT
DESCRIPTION:Duik in de wereld van choreograaf Mohamed Toukabri. Zijn solo v
 erkent de complexe relatie tussen geschiedenis en beweging\, waarbij hij h
 iphop en postmodernisme combineert. Het is een reis door de architectuur v
 an dans die je uitnodigt om verder te kijken dan het bekende.
DTSTAMP:20260422T172419Z
DTSTART;TZID=Local:20260609T210000
LOCATION:TR25 Schouwburg
SEQUENCE:0
SUMMARY:Every-body-knows-what-tomorrow-brings-and-we-all-know-what-happened
 -yesterday
UID:05aa08c2-f805-4ce0-9fc4-b89669f6c2f7
URL:https://www.uitagendarotterdam.nl/agenda/every-body-knows-what-tomorrow
 -brings-and-we-all-know-what-happened-yesterday/
END:VEVENT
END:VCALENDAR
