BEGIN:VCALENDAR
PRODID:-//github.com/ical-org/ical.net//NONSGML ical.net 5.2.1//EN
VERSION:2.0
BEGIN:VTIMEZONE
TZID:Europe/Amsterdam
X-LIC-LOCATION:Europe/Amsterdam
END:VTIMEZONE
BEGIN:VEVENT
DESCRIPTION:Ervaar een unieke dubbelshow met cabaretiers Victor Luis van Es
  en Vincent Geers bij Club Haug. Verwacht 2 x 45 minuten nieuwe grappen\, 
 improvisaties en verrassende verhalen vol humor.
DTEND;TZID=Local:20261113T210000
DTSTAMP:20260422T172356Z
DTSTART;TZID=Local:20261113T191500
LOCATION:Comedy Club Haug
SEQUENCE:0
SUMMARY:Vincent Geers & Victor Luis van Es
UID:3126e09f-1530-496c-86eb-a271ab1aedd3
URL:https://www.uitagendarotterdam.nl/agenda/vincent-geers-victor-luis-van-
 es/
END:VEVENT
END:VCALENDAR
