BEGIN:VCALENDAR
PRODID:-//github.com/ical-org/ical.net//NONSGML ical.net 5.2.1//EN
VERSION:2.0
BEGIN:VTIMEZONE
TZID:Europe/Amsterdam
X-LIC-LOCATION:Europe/Amsterdam
END:VTIMEZONE
BEGIN:VEVENT
DESCRIPTION:Alina Sharipova\, geboren in Oezbekistan en opgegroeid in Belgi
 ?\, brengt een unieke mix van culturele achtergronden naar haar stand-up 
 comedy.
DTEND;TZID=Local:20261107T210000
DTSTAMP:20260422T172443Z
DTSTART;TZID=Local:20261107T191500
LOCATION:Comedy Club Haug
SEQUENCE:0
SUMMARY:Tobi Kooiman & Alina Sharipova
UID:1fc48dee-c059-45e0-920b-e25b4325b04e
URL:https://www.uitagendarotterdam.nl/agenda/tobi-kooiman-alina-sharipova/
END:VEVENT
END:VCALENDAR
