BEGIN:VCALENDAR
PRODID:-//github.com/ical-org/ical.net//NONSGML ical.net 5.2.1//EN
VERSION:2.0
BEGIN:VTIMEZONE
TZID:Europe/Amsterdam
X-LIC-LOCATION:Europe/Amsterdam
END:VTIMEZONE
BEGIN:VEVENT
DESCRIPTION:Ervaar The Reytons live in Annabel\, Rotterdam! De energieke ba
 nd uit Sheffield staat garant voor een avond vol uptempo indierock en aans
 tekelijke nummers. Mis dit concert niet en ontdek hun unieke geluid.
DTSTAMP:20260422T172356Z
DTSTART;TZID=Local:20270219T190000
LOCATION:Annabel
SEQUENCE:0
SUMMARY:The Reytons - Poppodium Annabel
UID:8a32ee8d-e5df-46cc-a566-e24d6d6cc381
URL:https://www.uitagendarotterdam.nl/agenda/the-reytons-poppodium-annabel/
END:VEVENT
END:VCALENDAR
