BEGIN:VCALENDAR
PRODID:-//github.com/ical-org/ical.net//NONSGML ical.net 5.2.1//EN
VERSION:2.0
BEGIN:VTIMEZONE
TZID:Europe/Amsterdam
X-LIC-LOCATION:Europe/Amsterdam
END:VTIMEZONE
BEGIN:VEVENT
DESCRIPTION:Wie heeft er zin in een goed verhaal? Dan ben je bij deze twee 
 aan het goede adres.  Victor en Tim verstaan de kunst van het vertellen.
DTEND;TZID=Local:20261028T214500
DTSTAMP:20260422T172357Z
DTSTART;TZID=Local:20261028T200000
LOCATION:Comedy Club Haug
SEQUENCE:0
SUMMARY:Tim Hartog & Victor Luis van Es
UID:f75a5b19-a05f-46d9-baff-4aaa692c9983
URL:https://www.uitagendarotterdam.nl/agenda/tim-hartog-victor-luis-van-es/
END:VEVENT
END:VCALENDAR
