BEGIN:VCALENDAR
PRODID:-//github.com/ical-org/ical.net//NONSGML ical.net 5.2.1//EN
VERSION:2.0
BEGIN:VTIMEZONE
TZID:Europe/Amsterdam
X-LIC-LOCATION:Europe/Amsterdam
END:VTIMEZONE
BEGIN:VEVENT
DESCRIPTION:Wie zichzelf regelmatig betrapt op het gedachteloos scrollen do
 or  z?n socials\, heeft grote kans ??n van deze heren tegen te komen. 
 Felix en Tim.
DTEND;TZID=Local:20260919T174500
DTSTAMP:20260422T172137Z
DTSTART;TZID=Local:20260919T160000
LOCATION:Comedy Club Haug
SEQUENCE:0
SUMMARY:Tim Hartog & Felix van den Berg
UID:3afeb142-57a5-447a-b442-46930133be3a
URL:https://www.uitagendarotterdam.nl/agenda/tim-hartog-felix-van-den-berg/
END:VEVENT
END:VCALENDAR
