BEGIN:VCALENDAR
PRODID:-//github.com/ical-org/ical.net//NONSGML ical.net 5.2.1//EN
VERSION:2.0
BEGIN:VTIMEZONE
TZID:Europe/Amsterdam
X-LIC-LOCATION:Europe/Amsterdam
END:VTIMEZONE
BEGIN:VEVENT
DESCRIPTION:Jorn en Alina hebben met de Cameretten en Leids finalistentour 
 in alle Nederlandse theaters gespeeld. Daar waren de mensen heel erg oud.
DTEND;TZID=Local:20261127T210000
DTSTAMP:20260422T172349Z
DTSTART;TZID=Local:20261127T191500
LOCATION:Comedy Club Haug
SEQUENCE:0
SUMMARY:Alina Sharipova & Jorn van Dam
UID:11906afe-543f-4abd-81a2-65d079ba664f
URL:https://www.uitagendarotterdam.nl/agenda/alina-sharipova-jorn-van-dam/
END:VEVENT
END:VCALENDAR
