BEGIN:VCALENDAR
PRODID:-//github.com/ical-org/ical.net//NONSGML ical.net 5.2.1//EN
VERSION:2.0
BEGIN:VTIMEZONE
TZID:Europe/Amsterdam
X-LIC-LOCATION:Europe/Amsterdam
END:VTIMEZONE
BEGIN:VEVENT
DESCRIPTION:Tijdens deze lezing en busexcursie zie je met eigen ogen hoe ha
 venontwikkeling en natuur hand in hand gaan.  
DTEND;TZID=Local:20260524T163000
DTSTAMP:20260422T172418Z
DTSTART;TZID=Local:20260524T140000
LOCATION:Portlantis
SEQUENCE:0
SUMMARY:Natuurtour met lezing - Portlantis
UID:a0859f4e-6092-4fd2-95ca-497165ba9629
URL:https://www.uitagendarotterdam.nl/agenda/natuurtour-met-lezing-portlant
 is/
END:VEVENT
END:VCALENDAR
