BEGIN:VCALENDAR
PRODID:-//github.com/ical-org/ical.net//NONSGML ical.net 5.2.1//EN
VERSION:2.0
BEGIN:VTIMEZONE
TZID:Europe/Amsterdam
X-LIC-LOCATION:Europe/Amsterdam
END:VTIMEZONE
BEGIN:VEVENT
DESCRIPTION: C&C Events Summer BBQ Day Party: geniet van oldschool R&B\, he
 erlijke BBQ en indoor & outdoor vibes.
DTEND;TZID=Local:20260725T220000
DTSTAMP:20260422T170607Z
DTSTART;TZID=Local:20260725T170000
LOCATION:
SEQUENCE:0
SUMMARY:C&C Events Summer BBQ Day Party
UID:01351875-2ed8-4bad-9a43-7be90086b0a2
URL:https://www.uitagendarotterdam.nl/agenda/cc-events-summer-bbq-day-party
 /
END:VEVENT
END:VCALENDAR
