BEGIN:VCALENDAR
PRODID:-//github.com/ical-org/ical.net//NONSGML ical.net 5.2.1//EN
VERSION:2.0
BEGIN:VTIMEZONE
TZID:Europe/Amsterdam
X-LIC-LOCATION:Europe/Amsterdam
END:VTIMEZONE
BEGIN:VEVENT
DESCRIPTION:Alina en Tim gaan dubbelen! Naast hun liefde voor wielrennen de
 len ze vanavond het podium. De ??n voor en de ander na de pauze.
DTEND;TZID=Local:20270106T214500
DTSTAMP:20260422T172535Z
DTSTART;TZID=Local:20270106T200000
LOCATION:Comedy Club Haug
SEQUENCE:0
SUMMARY:Tim Hartog & Alina Sharipova
UID:3315aac6-cfbe-4789-aec2-5cace816f9f3
URL:https://www.uitagendarotterdam.nl/agenda/tim-hartog-alina-sharipova/
END:VEVENT
END:VCALENDAR
