BEGIN:VCALENDAR
PRODID:-//github.com/ical-org/ical.net//NONSGML ical.net 5.2.1//EN
VERSION:2.0
BEGIN:VTIMEZONE
TZID:Europe/Amsterdam
X-LIC-LOCATION:Europe/Amsterdam
END:VTIMEZONE
BEGIN:VEVENT
DESCRIPTION:In Tot op de bodem van Garage TDI volg je de reis van een hebbe
 rig prinsje. Hij ontdekt de wereld onder de grond. Kan jij hem overtuigen 
 van het belang van het bodemleven? Deze interactieve voorstelling is gesch
 ikt voor iedereen vanaf 6 jaar bij Van Maanenbad.
DTEND;TZID=Local:20260718T123000
DTSTAMP:20260422T172356Z
DTSTART;TZID=Local:20260718T113000
LOCATION:Studio de Bakkerij
SEQUENCE:0
SUMMARY:Tot op de bodem l Garage TDI @ Van Maanenbad
UID:685909ac-3665-496d-8f2e-ad22f5e3a1c4
URL:https://www.uitagendarotterdam.nl/agenda/tot-op-de-bodem-l-garage-tdi-v
 an-maanenbad-6plus/
END:VEVENT
END:VCALENDAR
